View In:
ArcGIS JavaScript
ArcGIS Online Map Viewer
ArcGIS Earth
Service Description: ex_situ_collections
Name: CWR/test_ex_situ_collections
Description: ex_situ_collections
Single Fused Map Cache: false
Extent:
XMin: -178.20833333332945
YMin: 14.541666666667894
XMax: -52.625000000002274
YMax: 83.12499999999787
Spatial Reference: 4326
(4326)
Initial Extent:
XMin: -178.20833333332945
YMin: 14.541666666667894
XMax: -52.625000000002274
YMax: 83.12499999999787
Spatial Reference: 4326
(4326)
Full Extent:
XMin: -178.20833333332945
YMin: 14.541666666667894
XMax: -52.625000000002274
YMax: 83.12499999999787
Spatial Reference: 4326
(4326)
Pixel Size X: 0.041666666666664624
Pixel Size Y: 0.041666666666664624
Band Count: 1
Pixel Type: U8
RasterFunction Infos: {"rasterFunctionInfos": [
{
"help": "",
"name": "ga50 Template",
"description": "ga50 Template"
},
{
"help": "",
"name": "None",
"description": ""
}
]}
Mensuration Capabilities: Basic
Inspection Capabilities:
Has Histograms: false
Has Colormap: false
Has Multi Dimensions : false
Rendering Rule:
Min Scale: 0
Max Scale: 0
Copyright Text:
Service Data Type: esriImageServiceDataTypeGeneric
Min Values: N/A
Max Values: N/A
Mean Values: N/A
Standard Deviation Values: N/A
Object ID Field: OBJECTID
Fields:
-
OBJECTID
(
alias: OBJECTID, type: esriFieldTypeOID
)
-
Shape
(
alias: Shape, type: esriFieldTypeGeometry
)
-
Name
(
length: 200, alias: Name, type: esriFieldTypeString
)
-
MinPS
(
alias: MinPS, type: esriFieldTypeDouble
)
-
MaxPS
(
alias: MaxPS, type: esriFieldTypeDouble
)
-
LowPS
(
alias: LowPS, type: esriFieldTypeDouble
)
-
HighPS
(
alias: HighPS, type: esriFieldTypeDouble
)
-
Category
(
alias: Category, type: esriFieldTypeInteger
, Coded Values:
[0: Unknown]
, [1: Primary]
, [2: Overview]
, ...6 more...
)
-
Tag
(
length: 100, alias: Tag, type: esriFieldTypeString
)
-
GroupName
(
length: 100, alias: GroupName, type: esriFieldTypeString
)
-
ProductName
(
length: 100, alias: ProductName, type: esriFieldTypeString
)
-
CenterX
(
alias: CenterX, type: esriFieldTypeDouble
)
-
CenterY
(
alias: CenterY, type: esriFieldTypeDouble
)
-
ZOrder
(
alias: ZOrder, type: esriFieldTypeInteger
)
-
Shape_Length
(
alias: Shape_Length, type: esriFieldTypeDouble
)
-
Shape_Area
(
alias: Shape_Area, type: esriFieldTypeDouble
)
Default Mosaic Method: Northwest
Allowed Mosaic Methods: NorthWest,Center,LockRaster,ByAttribute,Nadir,Viewpoint,Seamline,None
SortField:
SortValue: N/A
Mosaic Operator: First
Default Compression Quality: 75
Default Resampling Method: Nearest
Max Record Count: 1000
Max Image Height: 4100
Max Image Width: 15000
Max Download Image Count: 20
Max Mosaic Image Count: 20
Allow Raster Function: true
Allow Copy: true
Allow Analysis: true
Allow Compute TiePoints: false
Supports Statistics: true
Supports Advanced Queries: true
Use StandardizedQueries: true
Raster Type Infos:
Name: Raster Dataset
Description: Supports all ArcGIS Raster Datasets
Help:
Has Raster Attribute Table: false
Edit Fields Info: N/A
Ownership Based AccessControl For Rasters: N/A
Child Resources:
Info
Statistics
Key Properties
Legend
Raster Function Infos
Supported Operations:
Export Image
Query
Identify
Measure
Compute Histograms
Compute Statistics Histograms
Get Samples
Compute Class Statistics
Query GPS Info
Find Images
Image to Map
Map to Image
Measure from Image
Image to Map Multiray
Query Boundary
Compute Pixel Location
Compute Angles
Validate
Project