View In:
ArcGIS JavaScript
ArcGIS Online Map Viewer
ArcGIS Earth
Service Description: CWR/Phaseolus_angustissimus__ersEx_ecos
Name: CWR/Phaseolus_angustissimus__ersEx_ecos
Description:
Single Fused Map Cache: false
Extent:
XMin: -118.791666667
YMin: 21.291666667
XMax: -97.5
YMax: 42.791666667
Spatial Reference: 4326
(4326)
Initial Extent:
XMin: -118.791666667
YMin: 21.291666667
XMax: -97.5
YMax: 42.791666667
Spatial Reference: 4326
(4326)
Full Extent:
XMin: -118.791666667
YMin: 21.291666667
XMax: -97.5
YMax: 42.791666667
Spatial Reference: 4326
(4326)
Pixel Size X: 0.04166666666731898
Pixel Size Y: 0.041666666666666664
Band Count: 1
Pixel Type: F32
RasterFunction Infos: {"rasterFunctionInfos": [{
"help": "",
"name": "None",
"description": ""
}]}
Mensuration Capabilities: Basic
Inspection Capabilities:
Has Histograms: false
Has Colormap: false
Has Multi Dimensions : false
Rendering Rule:
Min Scale: 0
Max Scale: 0
Copyright Text:
Service Data Type: esriImageServiceDataTypeGeneric
Min Values: 17045
Max Values: 17094
Mean Values: 17069.242105263002
Standard Deviation Values: 24.628609807551999
Object ID Field:
Fields:
None
Default Mosaic Method: Center
Allowed Mosaic Methods:
SortField:
SortValue: N/A
Mosaic Operator: First
Default Compression Quality: 75
Default Resampling Method: Nearest
Max Record Count: null
Max Image Height: 4100
Max Image Width: 15000
Max Download Image Count: null
Max Mosaic Image Count: null
Allow Raster Function: true
Allow Copy: true
Allow Analysis: true
Allow Compute TiePoints: false
Supports Statistics: false
Supports Advanced Queries: false
Use StandardizedQueries: false
Raster Type Infos:
Name: Raster Dataset
Description: Supports all ArcGIS Raster Datasets
Help:
Has Raster Attribute Table: false
Edit Fields Info: N/A
Ownership Based AccessControl For Rasters: N/A
Child Resources:
Info
Statistics
Key Properties
Legend
Raster Function Infos
Supported Operations:
Export Image
Identify
Measure
Compute Histograms
Compute Statistics Histograms
Get Samples
Compute Class Statistics
Query Boundary
Compute Pixel Location
Compute Angles
Validate
Project