View In:
ArcGIS JavaScript
ArcGIS Online Map Viewer
ArcGIS Earth
Service Description: CWR-New/echinacea_purpurea
Name: CWR-New/echinacea_purpurea
Description:
Single Fused Map Cache: false
Extent:
XMin: -1.10252679007E7
YMin: 3362839.895093296
XMax: -8233004.006678017
YMax: 6577190.191699997
Spatial Reference: 102100
(3857)
Initial Extent:
XMin: -1.10252679007E7
YMin: 3362839.895093296
XMax: -8233004.006678017
YMax: 6577190.191699997
Spatial Reference: 102100
(3857)
Full Extent:
XMin: -1.10252679007E7
YMin: 3362839.895093296
XMax: -8233004.006678017
YMax: 6577190.191699997
Spatial Reference: 102100
(3857)
Pixel Size X: 4638.312116315586
Pixel Size Y: 4638.312116315585
Band Count: 1
Pixel Type: F32
RasterFunction Infos: {"rasterFunctionInfos": [{
"help": "",
"name": "None",
"description": ""
}]}
Mensuration Capabilities: Basic
Inspection Capabilities:
Has Histograms: true
Has Colormap: false
Has Multi Dimensions : false
Rendering Rule:
Min Scale: 0
Max Scale: 0
Copyright Text:
Service Data Type: esriImageServiceDataTypeGeneric
Min Values: 17008.12890625
Max Values: 17073.87109375
Mean Values: 17030.261560771727
Standard Deviation Values: 22.710562153587034
Object ID Field: OBJECTID
Fields:
-
OBJECTID
(
alias: OBJECTID, type: esriFieldTypeOID
)
-
Shape
(
alias: Shape, type: esriFieldTypeGeometry
)
-
Name
(
length: 200, alias: Name, type: esriFieldTypeString
)
-
MinPS
(
alias: MinPS, type: esriFieldTypeDouble
)
-
MaxPS
(
alias: MaxPS, type: esriFieldTypeDouble
)
-
LowPS
(
alias: LowPS, type: esriFieldTypeDouble
)
-
HighPS
(
alias: HighPS, type: esriFieldTypeDouble
)
-
Category
(
alias: Category, type: esriFieldTypeInteger
, Coded Values:
[0: Unknown]
, [1: Primary]
, [2: Overview]
, ...6 more...
)
-
Tag
(
length: 100, alias: Tag, type: esriFieldTypeString
)
-
GroupName
(
length: 100, alias: GroupName, type: esriFieldTypeString
)
-
ProductName
(
length: 100, alias: ProductName, type: esriFieldTypeString
)
-
CenterX
(
alias: CenterX, type: esriFieldTypeDouble
)
-
CenterY
(
alias: CenterY, type: esriFieldTypeDouble
)
-
ZOrder
(
alias: ZOrder, type: esriFieldTypeInteger
)
-
Shape_Length
(
alias: Shape_Length, type: esriFieldTypeDouble
)
-
Shape_Area
(
alias: Shape_Area, type: esriFieldTypeDouble
)
Default Mosaic Method: Northwest
Allowed Mosaic Methods: NorthWest,Center,LockRaster,ByAttribute,Nadir,Viewpoint,Seamline,None
SortField:
SortValue: N/A
Mosaic Operator: First
Default Compression Quality: 75
Default Resampling Method: Bilinear
Max Record Count: 1000
Max Image Height: 4100
Max Image Width: 15000
Max Download Image Count: 20
Max Mosaic Image Count: 20
Allow Raster Function: true
Allow Copy: true
Allow Analysis: true
Allow Compute TiePoints: false
Supports Statistics: true
Supports Advanced Queries: true
Use StandardizedQueries: true
Raster Type Infos:
Name: Raster Dataset
Description: Supports all ArcGIS Raster Datasets
Help:
Has Raster Attribute Table: false
Edit Fields Info: N/A
Ownership Based AccessControl For Rasters: N/A
Child Resources:
Info
Histograms
Statistics
Key Properties
Legend
Raster Function Infos
Supported Operations:
Export Image
Query
Identify
Measure
Compute Histograms
Compute Statistics Histograms
Get Samples
Compute Class Statistics
Query GPS Info
Find Images
Image to Map
Map to Image
Measure from Image
Image to Map Multiray
Query Boundary
Compute Pixel Location
Compute Angles
Validate
Project